   BEGIN:VCALENDAR
VERSION:2.0
PRODID:-//ALCER Giralda - ECPv6.8.1//NONSGML v1.0//EN
CALSCALE:GREGORIAN
METHOD:PUBLISH
X-WR-CALNAME:ALCER Giralda
X-ORIGINAL-URL:https://www.alcergiralda.org
X-WR-CALDESC:Eventos para ALCER Giralda
REFRESH-INTERVAL;VALUE=DURATION:PT1H
X-Robots-Tag:noindex
X-PUBLISHED-TTL:PT1H
BEGIN:VTIMEZONE
TZID:UTC
BEGIN:STANDARD
TZOFFSETFROM:+0000
TZOFFSETTO:+0000
TZNAME:UTC
DTSTART:20260101T000000
END:STANDARD
END:VTIMEZONE
BEGIN:VEVENT
DTSTART;TZID=UTC:20260325T110000
DTEND;TZID=UTC:20260325T133000
DTSTAMP:20260424T194109
CREATED:20260302T110430Z
LAST-MODIFIED:20260302T110430Z
UID:8694-1774436400-1774445400@www.alcergiralda.org
SUMMARY:Actividad "Ruta de Semana Santa en Sevilla"
DESCRIPTION:¿Te apetece vivir la antesala de la Semana Santa en Sevilla de una forma diferente? \nEl próximo 25 de marzo a las 11:00 h\, desde ALCER Giralda+Huelva te invitamos a disfrutar de una ruta muy especial por Sevilla con nuestra animadora sociocultural\, Ariadna Fabra y nuestro fisioterapeuta\, Carlos Alonso. Nos acompañara nuestra voluntaria\, Dolores Álvarez\, como guía. \n⛪ Ruta Semana Santa Sevilla\n🗓 Lunes\, 23 de marzo de 2026\n🕚 11:00 h \nRealizaremos un paseo de iglesia en iglesia\, donde podremos contemplar imágenes y pasos procesionales\, justo una semana antes de la gran Semana Santa. Una oportunidad perfecta para disfrutar del ambiente\, la tradición y compartir un bonito momento en grupo. \n⏳ Inscripciones abiertas hasta el 20 de marzo ✍️ https://goo.su/zH7vzqe \nUna actividad pensada para convivir\, movernos y seguir creando experiencias juntos. \n¡Te esperamos! 💚
URL:https://www.alcergiralda.org/event/actividad-ruta-de-semana-santa-en-sevilla/
ATTACH;FMTTYPE=image/png:https://www.alcergiralda.org/wp-content/uploads/2026/03/25-Marzo-Semana-Santa-Sevilla.png
END:VEVENT
END:VCALENDAR