   BEGIN:VCALENDAR
VERSION:2.0
PRODID:-//ALCER Giralda - ECPv6.8.1//NONSGML v1.0//EN
CALSCALE:GREGORIAN
METHOD:PUBLISH
X-ORIGINAL-URL:https://www.alcergiralda.org
X-WR-CALDESC:Eventos para ALCER Giralda
REFRESH-INTERVAL;VALUE=DURATION:PT1H
X-Robots-Tag:noindex
X-PUBLISHED-TTL:PT1H
BEGIN:VTIMEZONE
TZID:UTC
BEGIN:STANDARD
TZOFFSETFROM:+0000
TZOFFSETTO:+0000
TZNAME:UTC
DTSTART:20260101T000000
END:STANDARD
END:VTIMEZONE
BEGIN:VEVENT
DTSTART;TZID=UTC:20260218T170000
DTEND;TZID=UTC:20260218T183000
DTSTAMP:20260424T170307
CREATED:20260202T133743Z
LAST-MODIFIED:20260202T133743Z
UID:8633-1771434000-1771439400@www.alcergiralda.org
SUMMARY:Taller psicológico "Mindfulness II"
DESCRIPTION:🧘‍♀️¿Sientes estrés\, ansiedad o cambios en tu estado de ánimo? Este taller es para ti\, taller de Mindfulness II: Potencia tu bienestar emocional. Descubre cómo las técnicas de mindfulness pueden ayudarte a gestionar emociones\, aumentar tu bienestar y afrontar los retos del día a día. \n📅 18 de febrero | 17:00 h\n💻 Taller online\n👩‍⚕️ Con Carmen Rosendo \nUn espacio seguro y cercano donde aprender herramientas prácticas para cuidar tu salud emocional. \n🔗Inscríbete aquí 👉 https://goo.su/7ot5JOz \nDesde ALCER Giralda + Huelva\, promovemos el cuidado integral de las personas con enfermedad renal 🤍
URL:https://www.alcergiralda.org/event/taller-psicologico-mindfulness-ii/
ATTACH;FMTTYPE=image/png:https://www.alcergiralda.org/wp-content/uploads/2026/02/18-Feb-Mindfullnes-II-1.png
END:VEVENT
END:VCALENDAR