   BEGIN:VCALENDAR
VERSION:2.0
PRODID:-//ALCER Giralda - ECPv6.8.1//NONSGML v1.0//EN
CALSCALE:GREGORIAN
METHOD:PUBLISH
X-WR-CALNAME:ALCER Giralda
X-ORIGINAL-URL:https://www.alcergiralda.org
X-WR-CALDESC:Eventos para ALCER Giralda
REFRESH-INTERVAL;VALUE=DURATION:PT1H
X-Robots-Tag:noindex
X-PUBLISHED-TTL:PT1H
BEGIN:VTIMEZONE
TZID:UTC
BEGIN:STANDARD
TZOFFSETFROM:+0000
TZOFFSETTO:+0000
TZNAME:UTC
DTSTART:20260101T000000
END:STANDARD
END:VTIMEZONE
BEGIN:VEVENT
DTSTART;TZID=UTC:20260302T080000
DTEND;TZID=UTC:20260302T170000
DTSTAMP:20260424T195819
CREATED:20260302T103602Z
LAST-MODIFIED:20260302T103602Z
UID:8690-1772438400-1772470800@www.alcergiralda.org
SUMMARY:Actividad "Ruta de Semana Santa en Huelva"
DESCRIPTION: ✨ La emoción empieza antes… Vive la antesala de la Semana Santa en Huelva ✨\nEl próximo 🗓 24 de marzo de 2026 a las 11:00 h te invitamos a vivir una experiencia diferente: nuestra Ruta de Semana Santa por Huelva.\nAcompañados por Andrea Varela\, psicóloga\, y Ariadna Fabra\, animadora sociocultural\, realizaremos un paseo muy especial de iglesia en iglesia para contemplar imágenes y pasos procesionales justo una semana antes de la gran Semana Santa.\n\nUn plan perfecto para:\n⛪ Conectar con la tradición\n🚶‍♀️ Mantenernos activos\n🤝 Compartir un momento en grupo\n💚 Cuidar también nuestro bienestar emocional\n\n📍 Inicio: Plaza de las Monjas\n⏳ Inscripciones abiertas hasta el 20 de marzo\n\nLas plazas son limitadas\, así que no lo dejes para última hora.\n👉 Reserva tu plaza aquí: https://goo.su/BcDOkxW\n\nVive la antesala de la Semana Santa de una forma cercana\, saludable y en buena compañía. ¡Te esperamos! 💚
URL:https://www.alcergiralda.org/event/actividad-ruta-de-semana-santa-en-huelva/
END:VEVENT
END:VCALENDAR