   BEGIN:VCALENDAR
VERSION:2.0
PRODID:-//ALCER Giralda - ECPv6.8.1//NONSGML v1.0//EN
CALSCALE:GREGORIAN
METHOD:PUBLISH
X-ORIGINAL-URL:https://www.alcergiralda.org
X-WR-CALDESC:Eventos para ALCER Giralda
REFRESH-INTERVAL;VALUE=DURATION:PT1H
X-Robots-Tag:noindex
X-PUBLISHED-TTL:PT1H
BEGIN:VTIMEZONE
TZID:UTC
BEGIN:STANDARD
TZOFFSETFROM:+0000
TZOFFSETTO:+0000
TZNAME:UTC
DTSTART:20260101T000000
END:STANDARD
END:VTIMEZONE
BEGIN:VEVENT
DTSTART;TZID=UTC:20260308T110000
DTEND;TZID=UTC:20260308T150000
DTSTAMP:20260424T181942
CREATED:20260220T104834Z
LAST-MODIFIED:20260220T105122Z
UID:8669-1772967600-1772982000@www.alcergiralda.org
SUMMARY:Actividad de animación "Ruta de senderismo por Alcalá"
DESCRIPTION:🌿 ¿Te vienes a descubrir los molinos de Alcalá? \nCuidar la salud renal también es moverse\, respirar aire puro y compartir momentos en buena compañía. Desde ALCER Giralda+Huelva te invitamos a una actividad diferente\, activa y en plena naturaleza: \n🥾 Ruta de Senderismo por el Parque Oromana y los Molinos de Alcalá \n¿Alguna vez has paseado entre los paisajes de Alcalá de Guadaíra y sus históricos molinos? El próximo 8 de marzo\, acompáñanos a descubrirlos en una ruta adaptada y pensada para disfrutar sin prisas\, con Ariadna Fabra\, nuestra animadora sociocultural y Carlos Alonso\, nuestro fisioterapeuta. \n📅 Domingo 8 de marzo de 2026\n🕚 11:00 h\n📍 Punto de encuentro: Entrada del Parque Oromana (zona centro\, junto a la Casa de la Cultura)\n🚍 Desplazamiento por cuenta propia\n🚌 Línea 121 Sevilla–Alcalá (paradas en San Bernardo\, Los Arcos y otras)\n👥 Sin límite de acompañantes\n💚 Actividad gratuita\n* Actividad sujeta a mínimo de participantes \nRecorreremos los molinos rodeados de naturaleza y visitaremos el molino subterráneo situado bajo el Teatro Gutiérrez de Alba. Una experiencia cultural\, saludable y compartida. \n👉 Reserva ya tu plaza aquí: https://goo.su/UJp2vYU \n⏳ Inscripción abierta hasta el 6 de marzo . \n🚶‍♂️🚶‍♀️Muévete\, comparte y disfruta. \n#ALCERGiraldaHuelva #EnfermedadRenal #PacientesRenales #VidaActiva #SenderismoSaludable #SaludRenal #AlcaláDeGuadaíra #OcioSaludable
URL:https://www.alcergiralda.org/event/8669/
ATTACH;FMTTYPE=image/png:https://www.alcergiralda.org/wp-content/uploads/2026/02/8-Marzo-Alcala.png
END:VEVENT
END:VCALENDAR